BEGIN:VCALENDAR
VERSION:2.0
PRODID:icalendar-ruby
CALSCALE:GREGORIAN
METHOD:PUBLISH
BEGIN:VEVENT
DTSTAMP:20260423T140810Z
UID:7-642565@communityumcportsmouth.com
DTSTART:20261101T143000Z
DTEND:20261101T153000Z
CLASS:PUBLIC
CREATED:20260423T073746
DESCRIPTION:
LAST-MODIFIED:20260423T073746
LOCATION:Community UMC Portsmouth
SUMMARY:Sunday Service 
URL;VALUE=URI:https://www.communityumcportsmouth.com/events/sunday-service/
 2026-11-01
END:VEVENT
END:VCALENDAR
