BEGIN:VCALENDAR
VERSION:2.0
PRODID:icalendar-ruby
CALSCALE:GREGORIAN
METHOD:PUBLISH
BEGIN:VEVENT
DTSTAMP:20260423T122510Z
UID:7-642564@communityumcportsmouth.com
DTSTART:20261025T133000Z
DTEND:20261025T143000Z
CLASS:PUBLIC
CREATED:20260423T073746
DESCRIPTION:
LAST-MODIFIED:20260423T073746
LOCATION:Community UMC Portsmouth
SUMMARY:Sunday Service 
URL;VALUE=URI:https://www.communityumcportsmouth.com/events/sunday-service/
 2026-10-25
END:VEVENT
END:VCALENDAR
