BEGIN:VCALENDAR
VERSION:2.0
PRODID:icalendar-ruby
CALSCALE:GREGORIAN
METHOD:PUBLISH
BEGIN:VEVENT
DTSTAMP:20260423T094512Z
UID:7-642115@communityumcportsmouth.com
DTSTART:20261011T133000Z
DTEND:20261011T143000Z
CLASS:PUBLIC
CREATED:20260422T220804
DESCRIPTION:
LAST-MODIFIED:20260422T220804
LOCATION:Community UMC Portsmouth
SUMMARY:Sunday Service 
URL;VALUE=URI:https://www.communityumcportsmouth.com/events/sunday-service/
 2026-10-11
END:VEVENT
END:VCALENDAR
