BEGIN:VCALENDAR
VERSION:2.0
PRODID:icalendar-ruby
CALSCALE:GREGORIAN
METHOD:PUBLISH
BEGIN:VEVENT
DTSTAMP:20260423T081915Z
UID:7-642114@communityumcportsmouth.com
DTSTART:20261004T133000Z
DTEND:20261004T143000Z
CLASS:PUBLIC
CREATED:20260422T220804
DESCRIPTION:
LAST-MODIFIED:20260422T220804
LOCATION:Community UMC Portsmouth
SUMMARY:Sunday Service 
URL;VALUE=URI:https://www.communityumcportsmouth.com/events/sunday-service/
 2026-10-04
END:VEVENT
END:VCALENDAR
