BEGIN:VCALENDAR
VERSION:2.0
PRODID:icalendar-ruby
CALSCALE:GREGORIAN
METHOD:PUBLISH
BEGIN:VEVENT
DTSTAMP:20260424T013902Z
UID:8-644577@communityumcportsmouth.com
DTSTART:20261105T213000Z
DTEND:20261105T220500Z
CLASS:PUBLIC
CREATED:20260423T191626
DESCRIPTION:
LAST-MODIFIED:20260423T191626
LOCATION:Community UMC 
SUMMARY:Pastors Office Hours 
URL;VALUE=URI:https://www.communityumcportsmouth.com/events/pastors-office-
 hours/2026-11-05
END:VEVENT
END:VCALENDAR
