BEGIN:VCALENDAR
VERSION:2.0
PRODID:icalendar-ruby
CALSCALE:GREGORIAN
METHOD:PUBLISH
BEGIN:VEVENT
DTSTAMP:20260423T121316Z
UID:8-642779@communityumcportsmouth.com
DTSTART:20260827T203000Z
DTEND:20260827T210500Z
CLASS:PUBLIC
CREATED:20260423T073746
DESCRIPTION:
LAST-MODIFIED:20260423T073746
LOCATION:Community UMC 
SUMMARY:Pastors Office Hours 
URL;VALUE=URI:https://www.communityumcportsmouth.com/events/pastors-office-
 hours/2026-08-27
END:VEVENT
END:VCALENDAR
