BEGIN:VCALENDAR
VERSION:2.0
PRODID:icalendar-ruby
CALSCALE:GREGORIAN
METHOD:PUBLISH
BEGIN:VEVENT
DTSTAMP:20260423T093523Z
UID:8-642330@communityumcportsmouth.com
DTSTART:20260813T203000Z
DTEND:20260813T210500Z
CLASS:PUBLIC
CREATED:20260422T220804
DESCRIPTION:
LAST-MODIFIED:20260422T220804
LOCATION:Community UMC 
SUMMARY:Pastors Office Hours 
URL;VALUE=URI:https://www.communityumcportsmouth.com/events/pastors-office-
 hours/2026-08-13
END:VEVENT
END:VCALENDAR
